BEGIN:VCALENDAR
VERSION:2.0
PRODID:-//wp-events-plugin.com//7.2.3.1//EN
TZID:America/Chicago
X-WR-TIMEZONE:America/Chicago
BEGIN:VEVENT
UID:1016@mchenrycountyhistory.org
DTSTART;TZID=America/Chicago:20250906T090000
DTEND;TZID=America/Chicago:20250906T153000
DTSTAMP:20250929T051836Z
URL:https://www.mchenrycountyhistory.org/events/one-room-schoolhouse-tour/
SUMMARY:One Room Schoolhouse Tour
DESCRIPTION:Register HERE.
ATTACH;FMTTYPE=image/jpeg:https://www.mchenrycountyhistory.org/wp-content/
 uploads/2025/08/one-room-school-house-tour-IG3.png
CATEGORIES:Calendar,Local Event,Museum Event
END:VEVENT
BEGIN:VTIMEZONE
TZID:America/Chicago
X-LIC-LOCATION:America/Chicago
BEGIN:DAYLIGHT
DTSTART:20250309T030000
TZOFFSETFROM:-0600
TZOFFSETTO:-0500
TZNAME:CDT
END:DAYLIGHT
END:VTIMEZONE
END:VCALENDAR